BEGIN:VCALENDAR
VERSION:2.0
PRODID:spatie/icalendar-generator
DESCRIPTION:Events from EKO
X-WR-CALDESC:Events from EKO
REFRESH-INTERVAL;VALUE=DURATION:PT1440M
X-PUBLISHED-TTL:PT1440M
BEGIN:VTIMEZONE
TZID:Europe/Madrid
BEGIN:STANDARD
DTSTART:20151025T030000Z
TZOFFSETFROM:+0200
TZOFFSETTO:+0100
END:STANDARD
BEGIN:DAYLIGHT
DTSTART:20160327T020000Z
TZOFFSETFROM:+0100
TZOFFSETTO:+0200
END:DAYLIGHT
BEGIN:STANDARD
DTSTART:20161030T030000Z
TZOFFSETFROM:+0200
TZOFFSETTO:+0100
END:STANDARD
END:VTIMEZONE
BEGIN:VTIMEZONE
TZID:UTC
BEGIN:STANDARD
DTSTART:20250729T020601Z
TZOFFSETFROM:+0000
TZOFFSETTO:+0000
END:STANDARD
END:VTIMEZONE
BEGIN:VEVENT
UID:16-7
DTSTAMP:20260425T020601Z
SUMMARY:Juanito Piquete Dúo Acústico\, Vida Meva\, Poblenou\, Bcn
LOCATION:
ORGANIZER;CN=admin:MAILTO:administrazioa@manukleart.com
DTSTART;TZID=Europe/Madrid:20160618T190000
DTEND;TZID=Europe/Madrid:20160618T203000
X-ALT-DESC;FMTTYPE=TEXT/HTML:JUANITO PIQUETE DUO ACUSTIC\, VIDA MEVA\, POBL
 ENOU\, BCN Dúo Acústico de Juanito Piquete y Valentín Wallace\, el dúo
  más peligroso en la margen izquierda del Besós\, deleitará a los clien
 tes y amigos de Vida Meva\, Botiga de Queviures Ecològics de Proximitat\,
  +34 931272319 /+34 607440460 Carrer Marià Aguiló 68 local 1\, 08005 Pob
 lenou\, Barcelona\, Catalunya\,&amp;hellip\;
CATEGORIES:ARTISTS
URL;VALUE=URI:https://eko.cat/mc-events/juanito-piquete-duo-acustico-vida-m
 eva-poblenou-bcn/
METHOD:PUBLISH
END:VEVENT
END:VCALENDAR